BEGIN:VCALENDAR
VERSION:2.0
PRODID:-//ChamberMaster//Event Calendar 2.0//EN
METHOD:PUBLISH
X-PUBLISHED-TTL:P3D
REFRESH-INTERVAL:P3D
CALSCALE:GREGORIAN
BEGIN:VEVENT
DTSTART:20120417T163000Z
DTEND:20120417T180000Z
X-MICROSOFT-CDO-ALLDAYEVENT:FALSE
SUMMARY:2012 April Discover Bixby
DESCRIPTION:
X-ALT-DESC;FMTTYPE=text/html:
LOCATION:
UID:e.1611.174
SEQUENCE:3
DTSTAMP:20260422T051948Z
URL:https://portal.bixbychamber.com/events/details/2012-april-discover-bixby-04-17-2012-174
END:VEVENT

END:VCALENDAR
