BEGIN:VCALENDAR
VERSION:2.0
PRODID:-//ChamberMaster//Event Calendar 2.0//EN
METHOD:PUBLISH
X-PUBLISHED-TTL:P3D
REFRESH-INTERVAL:P3D
CALSCALE:GREGORIAN
BEGIN:VEVENT
DTSTART:20111026T124500Z
DTEND:20111026T140000Z
X-MICROSOFT-CDO-ALLDAYEVENT:FALSE
SUMMARY:2011 October Connect Over Breakfast
DESCRIPTION:
X-ALT-DESC;FMTTYPE=text/html:
LOCATION:
UID:e.1611.155
SEQUENCE:3
DTSTAMP:20260422T131158Z
URL:https://portal.bixbychamber.com/events/details/2011-october-connect-over-breakfast-10-26-2011-155
END:VEVENT

END:VCALENDAR
