BEGIN:VCALENDAR
VERSION:2.0
PRODID:-//ChamberMaster//Event Calendar 2.0//EN
METHOD:PUBLISH
X-PUBLISHED-TTL:P3D
REFRESH-INTERVAL:P3D
CALSCALE:GREGORIAN
BEGIN:VEVENT
DTSTART:20111115T173000Z
DTEND:20111115T190000Z
X-MICROSOFT-CDO-ALLDAYEVENT:FALSE
SUMMARY:2011 November Discover Bixby
DESCRIPTION:
X-ALT-DESC;FMTTYPE=text/html:
LOCATION:
UID:e.1611.158
SEQUENCE:3
DTSTAMP:20260422T131451Z
URL:https://portal.bixbychamber.com/events/details/2011-november-discover-bixby-11-15-2011-158
END:VEVENT

END:VCALENDAR
