BEGIN:VCALENDAR
VERSION:2.0
PRODID:-//ChamberMaster//Event Calendar 2.0//EN
METHOD:PUBLISH
X-PUBLISHED-TTL:P3D
REFRESH-INTERVAL:P3D
CALSCALE:GREGORIAN
BEGIN:VEVENT
DTSTART:20110601T163000Z
DTEND:20110601T180000Z
X-MICROSOFT-CDO-ALLDAYEVENT:FALSE
SUMMARY:2011 June Luncheon
DESCRIPTION:
X-ALT-DESC;FMTTYPE=text/html:
LOCATION:SpiritBank Event Center
UID:e.1611.143
SEQUENCE:3
DTSTAMP:20260422T184253Z
URL:https://portal.bixbychamber.com/events/details/2011-june-luncheon-06-01-2011-143
END:VEVENT

END:VCALENDAR
