BEGIN:VCALENDAR
VERSION:2.0
PRODID:-//ChamberMaster//Event Calendar 2.0//EN
METHOD:PUBLISH
X-PUBLISHED-TTL:P3D
REFRESH-INTERVAL:P3D
CALSCALE:GREGORIAN
BEGIN:VEVENT
DTSTART:20110120T233000Z
DTEND:20110121T013000Z
X-MICROSOFT-CDO-ALLDAYEVENT:FALSE
SUMMARY:2011 Janury After Hour
DESCRIPTION:
X-ALT-DESC;FMTTYPE=text/html:
LOCATION:
UID:e.1611.131
SEQUENCE:3
DTSTAMP:20260423T005115Z
URL:https://portal.bixbychamber.com/events/details/2011-janury-after-hour-01-20-2011-131
END:VEVENT

END:VCALENDAR
