BEGIN:VCALENDAR
VERSION:2.0
PRODID:-//ChamberMaster//Event Calendar 2.0//EN
METHOD:PUBLISH
X-PUBLISHED-TTL:P3D
REFRESH-INTERVAL:P3D
CALSCALE:GREGORIAN
BEGIN:VEVENT
DTSTART:20100120T233000Z
DTEND:20100121T013000Z
X-MICROSOFT-CDO-ALLDAYEVENT:FALSE
SUMMARY:2011 January After Hours
DESCRIPTION:
X-ALT-DESC;FMTTYPE=text/html:
LOCATION:
UID:e.1611.129
SEQUENCE:3
DTSTAMP:20260423T164048Z
URL:https://portal.bixbychamber.com/events/details/2011-january-after-hours-01-20-2010-129
END:VEVENT

END:VCALENDAR
