BEGIN:VCALENDAR
VERSION:2.0
PRODID:-//ChamberMaster//Event Calendar 2.0//EN
METHOD:PUBLISH
X-PUBLISHED-TTL:P3D
REFRESH-INTERVAL:P3D
CALSCALE:GREGORIAN
BEGIN:VEVENT
DTSTART:20111207T173000Z
DTEND:20111207T190000Z
X-MICROSOFT-CDO-ALLDAYEVENT:FALSE
SUMMARY:2011 December Luncheon
DESCRIPTION:
X-ALT-DESC;FMTTYPE=text/html:
LOCATION:SpiritBank Event Center
UID:e.1611.160
SEQUENCE:3
DTSTAMP:20260422T103110Z
URL:https://portal.bixbychamber.com/events/details/2011-december-luncheon-12-07-2011-160
END:VEVENT

END:VCALENDAR
