BEGIN:VCALENDAR
VERSION:2.0
PRODID:-//ChamberMaster//Event Calendar 2.0//EN
METHOD:PUBLISH
X-PUBLISHED-TTL:P3D
REFRESH-INTERVAL:P3D
CALSCALE:GREGORIAN
BEGIN:VEVENT
DTSTART:20111208T233000Z
DTEND:20111209T013000Z
X-MICROSOFT-CDO-ALLDAYEVENT:FALSE
SUMMARY:2011 December After Hours
DESCRIPTION:
X-ALT-DESC;FMTTYPE=text/html:
LOCATION:
UID:e.1611.161
SEQUENCE:3
DTSTAMP:20260422T114554Z
URL:https://portal.bixbychamber.com/events/details/2011-december-after-hours-12-08-2011-161
END:VEVENT

END:VCALENDAR
