BEGIN:VCALENDAR
VERSION:2.0
PRODID:-//ChamberMaster//Event Calendar 2.0//EN
METHOD:PUBLISH
X-PUBLISHED-TTL:P3D
REFRESH-INTERVAL:P3D
CALSCALE:GREGORIAN
BEGIN:VEVENT
DTSTART:20100901T163000Z
DTEND:20100901T180000Z
X-MICROSOFT-CDO-ALLDAYEVENT:FALSE
SUMMARY:2010 September Luncheon
DESCRIPTION:
X-ALT-DESC;FMTTYPE=text/html:
LOCATION:SpiritBank Event Center
UID:e.1611.118
SEQUENCE:3
DTSTAMP:20260423T055438Z
URL:https://portal.bixbychamber.com/events/details/2010-september-luncheon-09-01-2010-118
END:VEVENT

END:VCALENDAR
