BEGIN:VCALENDAR
VERSION:2.0
PRODID:-//ChamberMaster//Event Calendar 2.0//EN
METHOD:PUBLISH
X-PUBLISHED-TTL:P3D
REFRESH-INTERVAL:P3D
CALSCALE:GREGORIAN
BEGIN:VEVENT
DTSTART:20100526T124500Z
DTEND:20100526T140000Z
X-MICROSOFT-CDO-ALLDAYEVENT:FALSE
SUMMARY:2010 May Networking@Breakfast
DESCRIPTION:
X-ALT-DESC;FMTTYPE=text/html:
LOCATION:
UID:e.1611.114
SEQUENCE:3
DTSTAMP:20260423T105944Z
URL:https://portal.bixbychamber.com/events/details/2010-may-networking-breakfast-05-26-2010-114
END:VEVENT

END:VCALENDAR
