BEGIN:VCALENDAR
VERSION:2.0
PRODID:-//ChamberMaster//Event Calendar 2.0//EN
METHOD:PUBLISH
X-PUBLISHED-TTL:P3D
REFRESH-INTERVAL:P3D
CALSCALE:GREGORIAN
BEGIN:VEVENT
DTSTART:20100825T124500Z
DTEND:20100825T140000Z
X-MICROSOFT-CDO-ALLDAYEVENT:FALSE
SUMMARY:2010 August Networking@Breakfast
DESCRIPTION:
X-ALT-DESC;FMTTYPE=text/html:
LOCATION:
UID:e.1611.119
SEQUENCE:3
DTSTAMP:20260423T083742Z
URL:https://portal.bixbychamber.com/events/details/2010-august-networking-breakfast-08-25-2010-119
END:VEVENT

END:VCALENDAR
