BEGIN:VCALENDAR
VERSION:2.0
PRODID:-//ChamberMaster//Event Calendar 2.0//EN
METHOD:PUBLISH
X-PUBLISHED-TTL:P3D
REFRESH-INTERVAL:P3D
CALSCALE:GREGORIAN
BEGIN:VEVENT
DTSTART:20091007T151500Z
DTEND:20091007T160000Z
X-MICROSOFT-CDO-ALLDAYEVENT:FALSE
SUMMARY:2009 October New Member Orientation
DESCRIPTION:
X-ALT-DESC;FMTTYPE=text/html:
LOCATION:SpiritBank Event Center
UID:e.1611.99
SEQUENCE:3
DTSTAMP:20260423T210810Z
URL:https://portal.bixbychamber.com/events/details/2009-october-new-member-orientation-10-07-2009-99
END:VEVENT

END:VCALENDAR
