BEGIN:VCALENDAR
VERSION:2.0
PRODID:-//ChamberMaster//Event Calendar 2.0//EN
METHOD:PUBLISH
X-PUBLISHED-TTL:P3D
REFRESH-INTERVAL:P3D
CALSCALE:GREGORIAN
BEGIN:VEVENT
DTSTART:20090506T163000Z
DTEND:20090506T180000Z
X-MICROSOFT-CDO-ALLDAYEVENT:FALSE
SUMMARY:2009 May Bixby Chamber Luncheon
DESCRIPTION:
X-ALT-DESC;FMTTYPE=text/html:
LOCATION:SpiritBank Event Center
UID:e.1611.90
SEQUENCE:3
DTSTAMP:20260424T044719Z
URL:https://portal.bixbychamber.com/events/details/2009-may-bixby-chamber-luncheon-05-06-2009-90
END:VEVENT

END:VCALENDAR
