BEGIN:VCALENDAR
VERSION:2.0
PRODID:-//ChamberMaster//Event Calendar 2.0//EN
METHOD:PUBLISH
X-PUBLISHED-TTL:P3D
REFRESH-INTERVAL:P3D
CALSCALE:GREGORIAN
BEGIN:VEVENT
DTSTART:20090918T223000Z
DTEND:20090919T003000Z
X-MICROSOFT-CDO-ALLDAYEVENT:FALSE
SUMMARY:2009 Bixby Metro Open House
DESCRIPTION:
X-ALT-DESC;FMTTYPE=text/html:
LOCATION:
UID:e.1611.97
SEQUENCE:3
DTSTAMP:20260423T223733Z
URL:https://portal.bixbychamber.com/events/details/2009-bixby-metro-open-house-09-18-2009-97
END:VEVENT

END:VCALENDAR
