BEGIN:VCALENDAR
VERSION:2.0
PRODID:-//ChamberMaster//Event Calendar 2.0//EN
METHOD:PUBLISH
X-PUBLISHED-TTL:P3D
REFRESH-INTERVAL:P3D
CALSCALE:GREGORIAN
BEGIN:VEVENT
DTSTART:20080904T043000Z
DTEND:20080903T180000Z
X-MICROSOFT-CDO-ALLDAYEVENT:FALSE
SUMMARY:2008 September Bixby Chamber Luncheon
DESCRIPTION:
X-ALT-DESC;FMTTYPE=text/html:
LOCATION:
UID:e.1611.78
SEQUENCE:3
DTSTAMP:20260424T160457Z
URL:https://portal.bixbychamber.com/events/details/2008-september-bixby-chamber-luncheon-09-03-2008-78
END:VEVENT

END:VCALENDAR
