BEGIN:VCALENDAR
VERSION:2.0
PRODID:-//ChamberMaster//Event Calendar 2.0//EN
METHOD:PUBLISH
X-PUBLISHED-TTL:P3D
REFRESH-INTERVAL:P3D
CALSCALE:GREGORIAN
BEGIN:VEVENT
DTSTART:20080605T043000Z
DTEND:20080604T180000Z
X-MICROSOFT-CDO-ALLDAYEVENT:FALSE
SUMMARY:2008 June Bixby Chamber Luncheon
DESCRIPTION:
X-ALT-DESC;FMTTYPE=text/html:
LOCATION:
UID:e.1611.75
SEQUENCE:3
DTSTAMP:20260424T222511Z
URL:https://portal.bixbychamber.com/events/details/2008-june-bixby-chamber-luncheon-06-04-2008-75
END:VEVENT

END:VCALENDAR
