BEGIN:VCALENDAR
VERSION:2.0
PRODID:-//ChamberMaster//Event Calendar 2.0//EN
METHOD:PUBLISH
X-PUBLISHED-TTL:P3D
REFRESH-INTERVAL:P3D
CALSCALE:GREGORIAN
BEGIN:VEVENT
DTSTART:20080703T043000Z
DTEND:20080702T180000Z
X-MICROSOFT-CDO-ALLDAYEVENT:FALSE
SUMMARY:2008 July Bixby Chamber Luncheon
DESCRIPTION:
X-ALT-DESC;FMTTYPE=text/html:
LOCATION:
UID:e.1611.76
SEQUENCE:3
DTSTAMP:20260424T185728Z
URL:https://portal.bixbychamber.com/events/details/2008-july-bixby-chamber-luncheon-07-02-2008-76
END:VEVENT

END:VCALENDAR
