BEGIN:VCALENDAR
VERSION:2.0
PRODID:-//ChamberMaster//Event Calendar 2.0//EN
METHOD:PUBLISH
X-PUBLISHED-TTL:P3D
REFRESH-INTERVAL:P3D
CALSCALE:GREGORIAN
BEGIN:VEVENT
DTSTART;VALUE=DATE:20080910
DTEND;VALUE=DATE:20080911
TRANSP:TRANSPARENT
X-MICROSOFT-CDO-ALLDAYEVENT:TRUE
SUMMARY:2008 Business By Refferal Group 1
DESCRIPTION:
X-ALT-DESC;FMTTYPE=text/html:
LOCATION:
UID:e.1611.85
SEQUENCE:3
DTSTAMP:20260424T160457Z
URL:https://portal.bixbychamber.com/events/details/2008-business-by-refferal-group-1-09-10-2008-85
END:VEVENT

END:VCALENDAR
