BEGIN:VCALENDAR
VERSION:2.0
PRODID:-//ChamberMaster//Event Calendar 2.0//EN
METHOD:PUBLISH
X-PUBLISHED-TTL:P3D
REFRESH-INTERVAL:P3D
CALSCALE:GREGORIAN
BEGIN:VEVENT
DTSTART:20070315T170000Z
DTEND:20070315T180000Z
X-MICROSOFT-CDO-ALLDAYEVENT:FALSE
SUMMARY:2007 March Business By Referral
DESCRIPTION:
X-ALT-DESC;FMTTYPE=text/html:
LOCATION:White Hawk Pavilion
UID:e.1611.65
SEQUENCE:3
DTSTAMP:20260425T214859Z
URL:https://portal.bixbychamber.com/events/details/2007-march-business-by-referral-03-15-2007-65
END:VEVENT

END:VCALENDAR
