BEGIN:VCALENDAR
VERSION:2.0
PRODID:-//ChamberMaster//Event Calendar 2.0//EN
METHOD:PUBLISH
X-PUBLISHED-TTL:P3D
REFRESH-INTERVAL:P3D
CALSCALE:GREGORIAN
BEGIN:VEVENT
DTSTART:20070712T223000Z
DTEND:20070713T000000Z
X-MICROSOFT-CDO-ALLDAYEVENT:FALSE
SUMMARY:2007 Lisa's Reception
DESCRIPTION:
X-ALT-DESC;FMTTYPE=text/html:
LOCATION:
UID:e.1611.67
SEQUENCE:3
DTSTAMP:20260425T155422Z
URL:https://portal.bixbychamber.com/events/details/2007-lisa-s-reception-07-12-2007-67
END:VEVENT

END:VCALENDAR
