BEGIN:VCALENDAR
VERSION:2.0
PRODID:-//ChamberMaster//Event Calendar 2.0//EN
METHOD:PUBLISH
X-PUBLISHED-TTL:P3D
REFRESH-INTERVAL:P3D
CALSCALE:GREGORIAN
BEGIN:VEVENT
DTSTART:20070210T000000Z
DTEND:20070210T040000Z
X-MICROSOFT-CDO-ALLDAYEVENT:FALSE
SUMMARY:2007 Bixby Chamber of Commerce Gala
DESCRIPTION:
X-ALT-DESC;FMTTYPE=text/html:
LOCATION:Bixby Community Center
UID:e.1611.61
SEQUENCE:3
DTSTAMP:20260425T231742Z
URL:https://portal.bixbychamber.com/events/details/2007-bixby-chamber-of-commerce-gala-02-09-2007-61
END:VEVENT

END:VCALENDAR
