BEGIN:VCALENDAR
VERSION:2.0
PRODID:-//ChamberMaster//Event Calendar 2.0//EN
METHOD:PUBLISH
X-PUBLISHED-TTL:P3D
REFRESH-INTERVAL:P3D
CALSCALE:GREGORIAN
BEGIN:VEVENT
DTSTART:20061005T043000Z
DTEND:20061004T180000Z
X-MICROSOFT-CDO-ALLDAYEVENT:FALSE
SUMMARY:2006 October Bixby Chamber Luncheon
DESCRIPTION:
X-ALT-DESC;FMTTYPE=text/html:
LOCATION:
UID:e.1611.41
SEQUENCE:3
DTSTAMP:20260426T033806Z
URL:https://portal.bixbychamber.com/events/details/2006-october-bixby-chamber-luncheon-10-04-2006-41
END:VEVENT

END:VCALENDAR
