BEGIN:VCALENDAR
VERSION:2.0
PRODID:-//ChamberMaster//Event Calendar 2.0//EN
METHOD:PUBLISH
X-PUBLISHED-TTL:P3D
REFRESH-INTERVAL:P3D
CALSCALE:GREGORIAN
BEGIN:VEVENT
DTSTART:20061116T180000Z
DTEND:20061116T190000Z
X-MICROSOFT-CDO-ALLDAYEVENT:FALSE
SUMMARY:2006 November Business By Referral
DESCRIPTION:
X-ALT-DESC;FMTTYPE=text/html:
LOCATION:White Hawk Pavilion
UID:e.1611.51
SEQUENCE:3
DTSTAMP:20260426T031754Z
URL:https://portal.bixbychamber.com/events/details/2006-november-business-by-referral-11-16-2006-51
END:VEVENT

END:VCALENDAR
