BEGIN:VCALENDAR
VERSION:2.0
PRODID:-//ChamberMaster//Event Calendar 2.0//EN
METHOD:PUBLISH
X-PUBLISHED-TTL:P3D
REFRESH-INTERVAL:P3D
CALSCALE:GREGORIAN
BEGIN:VEVENT
DTSTART:20061102T053000Z
DTEND:20061101T190000Z
X-MICROSOFT-CDO-ALLDAYEVENT:FALSE
SUMMARY:2006 November Bixby Chamber Luncheon
DESCRIPTION:
X-ALT-DESC;FMTTYPE=text/html:
LOCATION:
UID:e.1611.42
SEQUENCE:3
DTSTAMP:20260426T032620Z
URL:https://portal.bixbychamber.com/events/details/2006-november-bixby-chamber-luncheon-11-01-2006-42
END:VEVENT

END:VCALENDAR
