BEGIN:VCALENDAR
VERSION:2.0
PRODID:-//ChamberMaster//Event Calendar 2.0//EN
METHOD:PUBLISH
X-PUBLISHED-TTL:P3D
REFRESH-INTERVAL:P3D
CALSCALE:GREGORIAN
BEGIN:VEVENT
DTSTART:20141210T000000Z
DTEND:20141210T020000Z
X-MICROSOFT-CDO-ALLDAYEVENT:FALSE
SUMMARY:1st Annual Bowling for Kids Night
DESCRIPTION:Our 1st Annual Bowling for Kids Night will be on December 9 from 6-8 pm at Andy B's in Tulsa\, OK. We will be bowling and raising funds for the Green Country Chapter as well the Children's Miracle Network Hospitals  in partner with the Credit Unions for Kids . We will have a silent auction with many great items which include several holiday themed wreaths\, massages\, a shopping party\, an autographed football\, and various baskets. We've got numerous ways to complete your holiday shopping and benefit a great charity as well.\n\n \n\nCredit Unions for Kids is a nonprofit collaboration of credit unions\, chapters\, leagues/associations and business partners from across the country\, engaged in fundraising activities to benefit 170 Children's Miracle Network Hospitals. Adopted as our movement's charity of choice\, credit unions are the 3rd largest sponsor of CMN Hospitals. One hundred percent of every dollar donated by members of the credit union movement goes back to the CMN Hospital which serves your community. The Chapter is looking to attract speakers to educate our professionals with current topics that are relevant to the changing financial world as well to do our part for our community as well as have a positive presence in our community. \n\n \n\nPlease come join us in celebrating a successful year as a chapter and raise money for a wonderful charity!
X-ALT-DESC;FMTTYPE=text/html:<span style="font-family:cambria\,serif\;"><span style="font-size:12.0pt\;">Our 1<sup>st</sup> Annual Bowling for Kids Night will be on December 9 from 6-8 pm at Andy B&rsquo\;s in Tulsa\, OK. We will be bowling and raising funds for the Green Country Chapter as well the Children&rsquo\;s Miracle Network Hospitals&reg\; in partner with the Credit Unions for Kids&reg\;. We will have a silent auction with many great items which include several holiday themed wreaths\, massages\, a shopping party\, an autographed football\, and various baskets. We&rsquo\;ve got numerous ways to complete your holiday shopping and benefit a great charity as well.</span></span><br />\n&nbsp\;<br />\n<span style="font-family:cambria\,serif\;"><span style="font-size:12.0pt\;">Credit Unions for Kids is a nonprofit collaboration of credit unions\, chapters\, leagues/associations and business partners from across the country\, engaged in fundraising activities to benefit 170 Children&rsquo\;s Miracle Network Hospitals. Adopted as our movement&rsquo\;s charity of choice\, credit unions are the 3rd largest sponsor of CMN Hospitals. One hundred percent of every dollar donated by members of the credit union movement goes back to the CMN Hospital which serves your community. </span></span><span style="font-family:cambria\,serif\;"><span style="font-size:12.0pt\;">The Chapter is looking to attract speakers to educate our professionals with current topics that are relevant to the changing financial world as well to do our part for our community as well as have a positive presence in our community. </span></span><br />\n&nbsp\;<br />\n<span style="font-family:cambria\,serif\;"><span style="font-size:12.0pt\;">Please come join us in celebrating a successful year as a chapter and raise money for a wonderful charity!</span></span>
LOCATION:Andy B's 8711 South Lewis Avenue Tulsa\, OK 74137
UID:e.1611.1473
SEQUENCE:3
DTSTAMP:20260420T121913Z
URL:https://portal.bixbychamber.com/events/details/1st-annual-bowling-for-kids-night-12-09-2014-1473
END:VEVENT

END:VCALENDAR
